BEGIN:VCALENDAR
VERSION:2.0
PRODID:-//Yoga Warriors - ECPv6.13.2.1//NONSGML v1.0//EN
CALSCALE:GREGORIAN
METHOD:PUBLISH
X-ORIGINAL-URL:https://yogawarriors.org
X-WR-CALDESC:Events for Yoga Warriors
REFRESH-INTERVAL;VALUE=DURATION:PT1H
X-Robots-Tag:noindex
X-PUBLISHED-TTL:PT1H
BEGIN:VTIMEZONE
TZID:America/Chicago
BEGIN:DAYLIGHT
TZOFFSETFROM:-0600
TZOFFSETTO:-0500
TZNAME:CDT
DTSTART:20160313T080000
END:DAYLIGHT
BEGIN:STANDARD
TZOFFSETFROM:-0500
TZOFFSETTO:-0600
TZNAME:CST
DTSTART:20161106T070000
END:STANDARD
BEGIN:DAYLIGHT
TZOFFSETFROM:-0600
TZOFFSETTO:-0500
TZNAME:CDT
DTSTART:20170312T080000
END:DAYLIGHT
BEGIN:STANDARD
TZOFFSETFROM:-0500
TZOFFSETTO:-0600
TZNAME:CST
DTSTART:20171105T070000
END:STANDARD
BEGIN:DAYLIGHT
TZOFFSETFROM:-0600
TZOFFSETTO:-0500
TZNAME:CDT
DTSTART:20180311T080000
END:DAYLIGHT
BEGIN:STANDARD
TZOFFSETFROM:-0500
TZOFFSETTO:-0600
TZNAME:CST
DTSTART:20181104T070000
END:STANDARD
BEGIN:DAYLIGHT
TZOFFSETFROM:-0600
TZOFFSETTO:-0500
TZNAME:CDT
DTSTART:20190310T080000
END:DAYLIGHT
BEGIN:STANDARD
TZOFFSETFROM:-0500
TZOFFSETTO:-0600
TZNAME:CST
DTSTART:20191103T070000
END:STANDARD
BEGIN:DAYLIGHT
TZOFFSETFROM:-0600
TZOFFSETTO:-0500
TZNAME:CDT
DTSTART:20200308T080000
END:DAYLIGHT
BEGIN:STANDARD
TZOFFSETFROM:-0500
TZOFFSETTO:-0600
TZNAME:CST
DTSTART:20201101T070000
END:STANDARD
BEGIN:DAYLIGHT
TZOFFSETFROM:-0600
TZOFFSETTO:-0500
TZNAME:CDT
DTSTART:20210314T080000
END:DAYLIGHT
BEGIN:STANDARD
TZOFFSETFROM:-0500
TZOFFSETTO:-0600
TZNAME:CST
DTSTART:20211107T070000
END:STANDARD
BEGIN:DAYLIGHT
TZOFFSETFROM:-0600
TZOFFSETTO:-0500
TZNAME:CDT
DTSTART:20220313T080000
END:DAYLIGHT
BEGIN:STANDARD
TZOFFSETFROM:-0500
TZOFFSETTO:-0600
TZNAME:CST
DTSTART:20221106T070000
END:STANDARD
BEGIN:DAYLIGHT
TZOFFSETFROM:-0600
TZOFFSETTO:-0500
TZNAME:CDT
DTSTART:20230312T080000
END:DAYLIGHT
BEGIN:STANDARD
TZOFFSETFROM:-0500
TZOFFSETTO:-0600
TZNAME:CST
DTSTART:20231105T070000
END:STANDARD
BEGIN:DAYLIGHT
TZOFFSETFROM:-0600
TZOFFSETTO:-0500
TZNAME:CDT
DTSTART:20240310T080000
END:DAYLIGHT
BEGIN:STANDARD
TZOFFSETFROM:-0500
TZOFFSETTO:-0600
TZNAME:CST
DTSTART:20241103T070000
END:STANDARD
BEGIN:DAYLIGHT
TZOFFSETFROM:-0600
TZOFFSETTO:-0500
TZNAME:CDT
DTSTART:20250309T080000
END:DAYLIGHT
BEGIN:STANDARD
TZOFFSETFROM:-0500
TZOFFSETTO:-0600
TZNAME:CST
DTSTART:20251102T070000
END:STANDARD
BEGIN:DAYLIGHT
TZOFFSETFROM:-0600
TZOFFSETTO:-0500
TZNAME:CDT
DTSTART:20260308T080000
END:DAYLIGHT
BEGIN:STANDARD
TZOFFSETFROM:-0500
TZOFFSETTO:-0600
TZNAME:CST
DTSTART:20261101T070000
END:STANDARD
END:VTIMEZONE
BEGIN:VEVENT
DTSTART;TZID=America/Chicago:20260404T100000
DTEND;TZID=America/Chicago:20260404T120000
DTSTAMP:20260423T114201
CREATED:20260129T214155Z
LAST-MODIFIED:20260129T214155Z
UID:8253-1775296800-1775304000@yogawarriors.org
SUMMARY:Community-Wide Free Yoga Event
DESCRIPTION:
URL:https://yogawarriors.org/event/community-wide-free-yoga-event/
LOCATION:Doubletree Hotel\, 424 W. Markham\, Little Rock\, AR\, 72202\, United States
END:VEVENT
BEGIN:VEVENT
DTSTART;TZID=America/Chicago:20250517T100000
DTEND;TZID=America/Chicago:20250517T120000
DTSTAMP:20260423T114201
CREATED:20250503T000042Z
LAST-MODIFIED:20250503T000042Z
UID:8091-1747476000-1747483200@yogawarriors.org
SUMMARY:Community-wide Yoga Event and Fundraiser
DESCRIPTION:You’re Invited!Join us for a community-wide yoga event at the DoubleTree Hotel in downtown Little Rock on Saturday\, May 17th\, from 10 AM to 12 PM.Whether you’re a beginner or a seasoned yogi\, everyone is welcome! Enjoy expert wellness tips\, discover the healing benefits of yoga\, and take part in fun raffles and giveaways.All proceeds and donations will support the Warrior Lodge\, a free facility providing a safe\, comfortable place for cancer patients undergoing life-saving\, extended treatments.Come move\, breathe\, and give back—together. \nhttps://yogawarriors.org/wp-content/uploads/2025/05/LRPR8669_16YOGAWARRIORS30_00003000_CreativeTeam20.mp4
URL:https://yogawarriors.org/event/community-wide-yoga-event-and-fundraiser/
LOCATION:Doubletree Hotel\, 424 W. Markham\, Little Rock\, AR\, 72202\, United States
ORGANIZER;CN="Donna Terrell":MAILTO:dterrell@fox16.com
END:VEVENT
BEGIN:VEVENT
DTSTART;TZID=America/Chicago:20231023T110000
DTEND;TZID=America/Chicago:20231023T180000
DTSTAMP:20260423T114201
CREATED:20230210T221405Z
LAST-MODIFIED:20230612T212044Z
UID:7830-1698058800-1698084000@yogawarriors.org
SUMMARY:3rd Annual Warrior Golf Tournament
DESCRIPTION:Join us for our 3rd annual Warrior Golf Tournament sponsored by Small & Associates Financial \nMonday\, October 23\, 2023 \nMaumelle Country Club! \n$1200 Warrior Sponsor/$800 per team/$200 per player/$200 Hole Sponsor
URL:https://yogawarriors.org/event/3rd-annual-warrior-golf-tournament/
LOCATION:Maumelle Country Club\, 100 Club Manor Drive\, Maumelle\, AR\, 72113\, United States
ATTACH;FMTTYPE=image/jpeg:https://yogawarriors.org/wp-content/uploads/2023/02/1C7C4361-D342-4527-BA21-4AA6D7C77620.jpeg
ORGANIZER;CN="Caitlyn Small":MAILTO:caitlyn.small@ampf.com
END:VEVENT
BEGIN:VEVENT
DTSTART;TZID=America/Chicago:20210814T094500
DTEND;TZID=America/Chicago:20210814T110000
DTSTAMP:20260423T114201
CREATED:20210802T201701Z
LAST-MODIFIED:20210802T203209Z
UID:7772-1628934300-1628938800@yogawarriors.org
SUMMARY:Yoga Warriors Fundraiser Yoga Class at the Women's Expo
DESCRIPTION:The KARK4 FOX16 Women’s Expo With A Cause is pleased to be supporting Donna Terrell’s Yoga Warriors Fighting Colon Cancer in an effort to raise awareness of colon cancer and save lives. \nDonna Terrell’s Yoga Warriors Fighting Colon Cancer promotes the practice of yoga as a tool to help cancer survivors relieve stress and anxiety from the diagnosis and treatments and has made free classes available to survivors. In addition\, it provides funds to support cancer fighting tools and techniques and helps to pay for housing for cancer survivors in town for treatment at any of the area hospitals and treatment facilities. \nGrab your yoga mat and join us on Saturday August 14th from 10:00am-11:00am (Early entry at the Expo for class participants at 9:45am) at the Women’s Expo at the Hall of Industry in the Arkansas State Fairgrounds Complex for our Yoga Warriors Fundraiser in memory of Donna’s daughter\, Queah\, who died from colon cancer in 2011.
URL:https://yogawarriors.org/event/yoga-warriors-fundraiser-yoga-class-at-the-womens-expo/
LOCATION:Arkansas State Fair Complex\, Hall of Industry\, 2600 Howard Street\, Little Rock\, AR\, 72206\, United States
ATTACH;FMTTYPE=image/jpeg:https://yogawarriors.org/wp-content/uploads/2021/08/YW2021_1.jpg
ORGANIZER;CN="Donna Terrel":MAILTO:dterrel@gmail.com
END:VEVENT
BEGIN:VEVENT
DTSTART;TZID=America/Chicago:20210619T100000
DTEND;TZID=America/Chicago:20210619T113000
DTSTAMP:20260423T114201
CREATED:20210501T183628Z
LAST-MODIFIED:20210502T184541Z
UID:7690-1624096800-1624102200@yogawarriors.org
SUMMARY:Our Yoga Warriors Event!
DESCRIPTION:This year\, we’re hosting the 7th annual yoga event at the MacArthur Park pavilion. The event is Saturday\, June 19 from 10am to 11:30am. \nStacey Reynolds of Blue Yoga Nyla in North Little Rock and Sarah Thomas Pilcher of Arkansas Yoga Collective in Little Rock are our instructors. \nThere will be raffles drawings\, door prizes\, and we’ll be selling yoga mats and other yoga assessories! We accept cash or credit card. \nIn the past the organization has given funds to Carti and The 20th Century Club’s Lodge. \nMost recently\, Yoga Warriors presented a $48\,000 grant to Baptist Health Foundation to provide medical equipment to benefit colon cancer survivors. \nYoga Warriors is in memory of Donna’s daughter\, Queah\, who died from colon cancer in 2011. \nYoga Warriors provides funds to benefit cancer survivors. Yoga Warriors Fighting Colon Cancer is a 501(c)3 non profit organization.
URL:https://yogawarriors.org/event/our-yoga-warriors-event/
LOCATION:MacArthur Park\, 503 E. Ninth Street\, Little Rock\, AR\, 72202\, United States
ATTACH;FMTTYPE=image/jpeg:https://yogawarriors.org/wp-content/uploads/2021/05/DT_SMILING.jpg
ORGANIZER;CN="Donna Terrell":MAILTO:dterrell@fox16.com
END:VEVENT
BEGIN:VEVENT
DTSTART;TZID=America/Chicago:20200314T100000
DTEND;TZID=America/Chicago:20200314T120000
DTSTAMP:20260423T114201
CREATED:20200212T194731Z
LAST-MODIFIED:20200213T015458Z
UID:7602-1584180000-1584187200@yogawarriors.org
SUMMARY:Yoga Warriors 7th Annual Community-Wide Free Event
DESCRIPTION:Donna Terrell’s Yoga Warriors Fighting Colon Cancer is scheduled for 10 a.m. to 12 p.m. on Saturday\, March 14\, 2020 at the Doubletree Hotel in downtown Little Rock. The event will begin with a presentation and raffle sales with yoga starting around 10:20 a.m.  Admission is free\, and participants are asked to bring their own yoga mats. You can also purchase mats for a $10 donation.
URL:https://yogawarriors.org/event/yoga-warriors-7th-annual-community-wide-free-event/
LOCATION:Doubletree Hotel\, 424 W. Markham\, Little Rock\, AR\, 72202\, United States
END:VEVENT
BEGIN:VEVENT
DTSTART;TZID=America/Chicago:20190603T113000
DTEND;TZID=America/Chicago:20190603T170000
DTSTAMP:20260423T114201
CREATED:20190308T183726Z
LAST-MODIFIED:20190308T184426Z
UID:7571-1559561400-1559581200@yogawarriors.org
SUMMARY:Warrior Tournament
DESCRIPTION:Our first annual golf tournament will be held Monday\, June 3 at Maumelle Country Club. \n11:30am lunch.  1PM shot gun start.  Teams $500.  Individuals $125.  Dinner and awards following tournament. \nAll proceeds will support The 20th Century Club Lodge to cover cost of cancer survivors in town going through treatment at various hospitals in Little Rock.
URL:https://yogawarriors.org/event/warrior-tournament/
LOCATION:Maumelle Country Club\, 100 Club Manor Drive\, Maumelle\, AR\, 72113\, United States
END:VEVENT
BEGIN:VEVENT
DTSTART;TZID=America/Chicago:20190420T100000
DTEND;TZID=America/Chicago:20190420T120000
DTSTAMP:20260423T114201
CREATED:20190308T183025Z
LAST-MODIFIED:20190308T183025Z
UID:7568-1555754400-1555761600@yogawarriors.org
SUMMARY:6th Annual Yoga Warriors Event at the Doubletree Hotel
DESCRIPTION:Our 6th Annual Donna Terrell’s Yoga Warriors Fighting Colon Cancer event will be held Saturday\, April 20th 10am-12pm at the Doubletree Hotel in downtown Little Rock.  We will have news anchors from all of our stations coming together for this event showing a united front against colon and other cancers. \nRaffles and door prizes will be available along with free smoothies from Tropical Smoothie. \nThe event is free and open to the public! Please bring your own yoga mat. \nMore details to come.
URL:https://yogawarriors.org/event/6th-annual-yoga-warriors-event-at-the-doubletree-hotel/
LOCATION:Doubletree Hotel\, 424 W. Markham\, Little Rock\, AR\, 72202\, United States
ORGANIZER;CN="Donna Terrell":MAILTO:dterrell@fox16.com
END:VEVENT
BEGIN:VEVENT
DTSTART;TZID=America/Chicago:20181007T160000
DTEND;TZID=America/Chicago:20181007T173000
DTSTAMP:20260423T114201
CREATED:20180818T034707Z
LAST-MODIFIED:20180818T034948Z
UID:7486-1538928000-1538933400@yogawarriors.org
SUMMARY:Reble Kettle/Donna Terrell's Yoga Warriors Event
DESCRIPTION:Free Event with raffle drawings\, and yoga warriors items for sale.  Cash\, check and credit cards accepted.  Donations accepted.  Money raised will support 20th Century Hope Lodge which houses cancer survivors for free when they’re in town for cancer treatments at any of our local Hospitals. \nBeer also sold with light snacks.  Yoga Instructor Cassandra Benning from Floating Lotus Yoga and Spa will lead our yoga session(s). \nFamily friendly event!
URL:https://yogawarriors.org/event/reble-kettle-donna-terrells-yoga-warriors-event/
LOCATION:Reble Kettle Brewing\, 822 E. 6th Street\, Little Rock\, AR\, 72202\, United States
ORGANIZER;CN="Donna Terrell":MAILTO:dterrell@fox16.com
END:VEVENT
BEGIN:VEVENT
DTSTART;TZID=America/Chicago:20180414T040000
DTEND;TZID=America/Chicago:20180414T060000
DTSTAMP:20260423T114201
CREATED:20180130T045924Z
LAST-MODIFIED:20180402T205121Z
UID:7029-1523678400-1523685600@yogawarriors.org
SUMMARY:5th Annual Community-Wide Yoga Warriors Fundraiser
DESCRIPTION:Free event! Donations accepted – cash and credit cards.  Please bring your own yoga mat. Children are welcomed. \nThis is an event that will include a 45-50 minute yoga session for all levels including those with cancer \nor chronic illnesses.  We will have raffle items for sale\, door prizes and gift bags but most importantly provide value information to help enhance your \nmind\, body and spirit.  We hope to see you on April 14th! \nSome of our RAFFLE ITEMS so far….  but the list is growing!  Keep watching over the next few weeks to see what’s added to the list. \nTwo Yeti coolers (raffled separately)  – David Yurman necklace from Sissy’s Log Cabin valued at $975 – dinner for 2 at 1836 Private Club in LR valued at $400 –  His and Her exercise/yoga attire from Lululemon at the Promenade in LR  – Shoe Party at Dillards for you and 7 of your friends.  Kate Spade Handbag from Indigo \nWe’ll be selling yoga warriors yoga mats\, baseball caps and t-shirt! \nWe’ll have many door prizes to give away\, everyone gets a gift bag and a free smoothie from Tropical Smoothie.
URL:https://yogawarriors.org/event/5th-annual-free-community-wide-yoga-fundraiser/
LOCATION:Doubletree Hotel\, 424 W. Markham\, Little Rock\, AR\, 72202\, United States
ORGANIZER;CN="Donna Terrell":MAILTO:dterrell@fox16.com
END:VEVENT
BEGIN:VEVENT
DTSTART;TZID=America/Chicago:20180307T103000
DTEND;TZID=America/Chicago:20180307T113000
DTSTAMP:20260423T114201
CREATED:20180224T224911Z
LAST-MODIFIED:20180225T195947Z
UID:7372-1520418600-1520422200@yogawarriors.org
SUMMARY:Yoga Class For Patients\, Survivors and Caregivers
DESCRIPTION:We have bi-weekly morning and evening free yoga classes for patients\, survivors and caregivers.  We provide our participants a relaxing experience that is sure to alleviate some of the stress associated with a cancer diagnosis and treatment.  Don’t bother getting a yoga mat because we have one for you!  We invite you to attend and you don’t have to be a patient or associated with Carti Cancer Center.
URL:https://yogawarriors.org/event/yoga-class-cancer-patients-survivors-caregivers/
LOCATION:CARTI\, 8901 Carti Way\, Little Rock \, AR\, 72205\, United States
END:VEVENT
BEGIN:VEVENT
DTSTART;TZID=America/Chicago:20180306T173000
DTEND;TZID=America/Chicago:20180306T183000
DTSTAMP:20260423T114201
CREATED:20180224T224717Z
LAST-MODIFIED:20180224T224717Z
UID:7369-1520357400-1520361000@yogawarriors.org
SUMMARY:Yoga Class for Patients\, Survivors and Caregivers
DESCRIPTION:We have bi-weekly morning and evening free yoga classes for patients\, survivors and caregivers.  We provide our participants a relaxing experience that is sure to alleviate some of the stress associated with a cancer diagnosis and treatment.  Don’t bother getting a yoga mat because we have one for you!  We invite you to attend and you don’t have to be a patient or associated with Carti Cancer Center.
URL:https://yogawarriors.org/event/yoga-class-patients-survivors-caregivers/
LOCATION:CARTI\, 8901 Carti Way\, Little Rock \, AR\, 72205\, United States
ORGANIZER;CN="Carolyn Garrett":MAILTO:cgarrette@carti.com
END:VEVENT
BEGIN:VEVENT
DTSTART;TZID=America/Chicago:20180228T103000
DTEND;TZID=America/Chicago:20180228T113000
DTSTAMP:20260423T114201
CREATED:20180224T201606Z
LAST-MODIFIED:20180225T195503Z
UID:7347-1519813800-1519817400@yogawarriors.org
SUMMARY:Free Yoga Class For Cancer Patients\, Survivors and Caregivers
DESCRIPTION:We have bi-weekly morning and evening free yoga classes for patients\, survivors and caregivers.  We provide our participants a relaxing experience that is sure to alleviate some of the stress associated with a cancer diagnosis and treatment.  Don’t bother getting a yoga mat because we have one for you!  We invite you to attend and you don’t have to be a patient or associated with Carti Cancer Center.
URL:https://yogawarriors.org/event/free-yoga-class-cancer-patients-survivors-caregivers/
LOCATION:CARTI\, 8901 Carti Way\, Little Rock \, AR\, 72205\, United States
ORGANIZER;CN="Carolyn Garrett":MAILTO:cgarrette@carti.com
END:VEVENT
BEGIN:VEVENT
DTSTART;TZID=America/Chicago:20180227T173000
DTEND;TZID=America/Chicago:20180227T183000
DTSTAMP:20260423T114201
CREATED:20180224T201215Z
LAST-MODIFIED:20180224T202100Z
UID:7342-1519752600-1519756200@yogawarriors.org
SUMMARY:Free Yoga Class For Cancer Patients\, Survivors and Caregivers
DESCRIPTION:We have bi-weekly morning and evening free yoga classes for patients\, survivors and caregivers.  We provide our participants a relaxing experience that is sure to alleviate some of the stress associated with a cancer diagnosis and treatment.  Don’t bother getting a yoga mat because we have one for you!  We invite you to attend and you don’t have to be a patient or associated with Carti Cancer Center.
URL:https://yogawarriors.org/event/yoga-week-patients-survivors-caregivers/
LOCATION:CARTI\, 8901 Carti Way\, Little Rock \, AR\, 72205\, United States
ORGANIZER;CN="Carolyn Garrett":MAILTO:cgarrette@carti.com
END:VEVENT
BEGIN:VEVENT
DTSTART;TZID=America/Chicago:20180214T043000
DTEND;TZID=America/Chicago:20180214T053000
DTSTAMP:20260423T114201
CREATED:20180130T045034Z
LAST-MODIFIED:20180130T045034Z
UID:7027-1518582600-1518586200@yogawarriors.org
SUMMARY:Free Yoga at CARTI for survivors\, patients and cargeivers
DESCRIPTION:Register In Advance – But Walk-ins Welcomed\nTo register to preserve your space email Carolyn at cgarrett@carti.com
URL:https://yogawarriors.org/event/free-yoga-carti-survivors-patients-cargeivers/
LOCATION:CARTI\, 8901 Carti Way\, Little Rock \, AR\, 72205\, United States
ORGANIZER;CN="Unnamed Organizer":MAILTO:cgarrett@carti.com
END:VEVENT
BEGIN:VEVENT
DTSTART;TZID=America/Chicago:20180213T113000
DTEND;TZID=America/Chicago:20180213T123000
DTSTAMP:20260423T114201
CREATED:20180130T044545Z
LAST-MODIFIED:20180130T045210Z
UID:7026-1518521400-1518525000@yogawarriors.org
SUMMARY:Free Yoga at Carti for Survivors\, Patients and Caregivers
DESCRIPTION:Register In Advance – But Walk-ins Welcomed. \nTo preserve your space email Carolyn at cgarrett@carti.com
URL:https://yogawarriors.org/event/free-yoga-carti/
LOCATION:CARTI\, 8901 Carti Way\, Little Rock \, AR\, 72205\, United States
END:VEVENT
BEGIN:VEVENT
DTSTART;TZID=America/Chicago:20170906T083000
DTEND;TZID=America/Chicago:20170906T093000
DTSTAMP:20260423T114201
CREATED:20170818T092716Z
LAST-MODIFIED:20170818T092716Z
UID:7023-1504686600-1504690200@yogawarriors.org
SUMMARY:Free Yoga At CARTI in Little Rock
DESCRIPTION:Yoga Warriors will provide free yoga classes to cancer patients\, survivors and caregivers at the CARTI facility starting Wednesday\, September 6th at 10:30AM.  If you don’t have a yoga mat\, no worries we will provide it for you. \nSpace is limited so if you’d like you can register by calling 501-660-7610 or email cgarrett@carti.com
URL:https://yogawarriors.org/event/free-yoga-carti-little-rock/
LOCATION:CARTI\, 8901 Carti Way\, Little Rock \, AR\, 72205\, United States
ORGANIZER;CN="Donna Terrell":MAILTO:dterrell@fox16.com
END:VEVENT
BEGIN:VEVENT
DTSTART;TZID=America/Chicago:20170401T040000
DTEND;TZID=America/Chicago:20170401T060000
DTSTAMP:20260423T114201
CREATED:20170208T073559Z
LAST-MODIFIED:20170208T073559Z
UID:7008-1491019200-1491026400@yogawarriors.org
SUMMARY:Yoga Warriors Free Community-Wide Yoga Event
DESCRIPTION:YW 4th Annual Event
URL:https://yogawarriors.org/event/yoga-warriors-free-community-wide-yoga-event/
LOCATION:Doubletree Hotel\, 424 W. Markham\, Little Rock\, AR\, 72202\, United States
END:VEVENT
BEGIN:VEVENT
DTSTART;TZID=America/Chicago:20160723T050000
DTEND;TZID=America/Chicago:20160723T160000
DTSTAMP:20260423T114201
CREATED:20160616T031850Z
LAST-MODIFIED:20160719T031507Z
UID:7003-1469250000-1469289600@yogawarriors.org
SUMMARY:Mellow Mushroom Restaurant Fundraiser
DESCRIPTION:Come to Mellow Mushroom Restaurant on Saturday July 23\, 2016 and have one of their fabulous meals for lunch or dinner! Part of the proceeds will go to Yoga Warriors to help buy liquid nutritional supplements for survivors of many different types of cancers in Central Arkansas.  We’re also raffling off a $500 gift card to Sissy’s Log Cabin for $5.  Don’t miss out on the opportunity to win and help a good cause! See you there!
URL:https://yogawarriors.org/event/mellow-mushroom-fundraiser/
LOCATION:Mellow Mushroom\, 16103 Chenal Parkway\, Little Rock\, AR\, 72211\, United States
END:VEVENT
BEGIN:VEVENT
DTSTART;TZID=America/Chicago:20160416T040000
DTEND;TZID=America/Chicago:20160416T060000
DTSTAMP:20260423T114201
CREATED:20160309T235212Z
LAST-MODIFIED:20160312T114631Z
UID:6891-1460779200-1460786400@yogawarriors.org
SUMMARY:Donna Terrell's Yoga Warriors Fighting Colon Cancer FREE Community Event
DESCRIPTION:[cmsms_row][cmsms_column data_width=”1/1″][cmsms_text] \nThis event raises awareness for colon and other cancers and raises money for liquid nutrition for cancer survivors currently in treatment at CARTI. The event is FREE but donations are accepted. Tropical Smoothie will provide free smoothies for all participants after the yoga practice. $1 raffle tickets or 6 for $5 for a gift card to Cecil’s Fine Jewelry and a pizza each week for a year from Mellow Mushroom along with door prizes.  If you have a yoga mat please bring it! \n[cmsms_button button_link=”http://arkansasmatters.upickem.net/engine/YourSubmission.aspx?contestid=217782″ button_target=”blank” button_text_align=”left” button_font_size=”” button_font_weight=”normal” button_font_style=”normal” button_border_style=”solid” button_bg_color=”#cd7399″ button_text_color=”#ffffff” animation_delay=”0″ width=”20px” height=”auto”]Sign-Up[/cmsms_button] \n[/cmsms_text][/cmsms_column][/cmsms_row]
URL:https://yogawarriors.org/event/donna-terrells-yoga-warriors-fighting-colon-cancer-2/
LOCATION:Doubletree Hotel\, 424 W. Markham\, Little Rock\, AR\, 72202\, United States
ATTACH;FMTTYPE=image/jpeg:https://yogawarriors.org/wp-content/uploads/2016/03/IMG_3604-1.jpg
END:VEVENT
BEGIN:VEVENT
DTSTART;TZID=America/Chicago:20160402T030000
DTEND;TZID=America/Chicago:20160402T080000
DTSTAMP:20260423T114201
CREATED:20160310T070119Z
LAST-MODIFIED:20160312T020549Z
UID:6910-1459566000-1459584000@yogawarriors.org
SUMMARY:Yoga Warriors Attends Arkansas Nursing Association Expo
DESCRIPTION:Yoga Warriors will be set up at the Arkansas Nursing Association Expo. Stop by our booth and learn more about us!
URL:https://yogawarriors.org/event/yoga-warriors-attends-akansas-nursing-association-expo/
LOCATION:Jack Stephens Center\, 2801 South University Avenue\, Little Rock\, AR\, 72204\, United States
ATTACH;FMTTYPE=image/png:https://yogawarriors.org/wp-content/uploads/2016/03/YogaWarriorsRibbon.png
ORGANIZER;CN="Donna Terrell":MAILTO:dterrell@fox16.com
END:VEVENT
END:VCALENDAR